BEGIN:VCALENDAR
VERSION:2.0
PRODID:-//NIHR Oxford Health Biomedical Research Centre - ECPv6.15.12.2//NONSGML v1.0//EN
CALSCALE:GREGORIAN
METHOD:PUBLISH
X-WR-CALNAME:NIHR Oxford Health Biomedical Research Centre
X-ORIGINAL-URL:https://oxfordhealthbrc.nihr.ac.uk
X-WR-CALDESC:Events for NIHR Oxford Health Biomedical Research Centre
REFRESH-INTERVAL;VALUE=DURATION:PT1H
X-Robots-Tag:noindex
X-PUBLISHED-TTL:PT1H
BEGIN:VTIMEZONE
TZID:Europe/London
BEGIN:DAYLIGHT
TZOFFSETFROM:+0000
TZOFFSETTO:+0100
TZNAME:BST
DTSTART:20250330T010000
END:DAYLIGHT
BEGIN:STANDARD
TZOFFSETFROM:+0100
TZOFFSETTO:+0000
TZNAME:GMT
DTSTART:20251026T010000
END:STANDARD
BEGIN:DAYLIGHT
TZOFFSETFROM:+0000
TZOFFSETTO:+0100
TZNAME:BST
DTSTART:20260329T010000
END:DAYLIGHT
BEGIN:STANDARD
TZOFFSETFROM:+0100
TZOFFSETTO:+0000
TZNAME:GMT
DTSTART:20261025T010000
END:STANDARD
BEGIN:DAYLIGHT
TZOFFSETFROM:+0000
TZOFFSETTO:+0100
TZNAME:BST
DTSTART:20270328T010000
END:DAYLIGHT
BEGIN:STANDARD
TZOFFSETFROM:+0100
TZOFFSETTO:+0000
TZNAME:GMT
DTSTART:20271031T010000
END:STANDARD
END:VTIMEZONE
BEGIN:VEVENT
DTSTART;TZID=Europe/London:20260528T100000
DTEND;TZID=Europe/London:20260528T153000
DTSTAMP:20260421T073449
CREATED:20260318T165052Z
LAST-MODIFIED:20260318T165052Z
UID:11603-1779962400-1779982200@oxfordhealthbrc.nihr.ac.uk
SUMMARY:Health Research Showcase 2026
DESCRIPTION:Step into the future of healthcare at our Health Research Showcase event 2026  \nJoin us at the Westgate Centre in Oxford on Thursday 28 May. \nWe are teaming up again with Oxford Biomedical Research Centre to showcase the exciting medical innovation that’s taking place in Oxford. \nExperience interactive stands showcasing the ground-breaking research that is driving change for NHS patients. \nLearn more about new diagnostics and revolutionary treatments – from cancer to depression\, neurology to better sleep. And discover how YOU can play a part in shaping the future of medicine by participating in our research. \nThe event opens to the public from 10am. No need to register.
URL:https://oxfordhealthbrc.nihr.ac.uk/oh-event/health-research-showcase-2026/
LOCATION:Leiden Square\, Westgate Centre\, Westgate Centre\, Oxford\, OX1 1TR
CATEGORIES:Better Sleep,Brain Technologies,Data Science,Dementia,Depression Research Centre,Depression Therapeutics,Flourishing & Wellbeing,Mental Health in Development,Molecular Targets,Pain,PPI,Preventing Multiple Morbidities,Psychological Treatments,Research Themes
ATTACH;FMTTYPE=image/jpeg:https://oxfordhealthbrc.nihr.ac.uk/wp-content/uploads/2026/03/Web_BannerWeb_banner_1600x600_01.jpg
ORGANIZER;CN="Oxford Health Biomedical Research Centre":MAILTO:ohbrcenquiries@oxfordhealth.nhs.uk
END:VEVENT
END:VCALENDAR